BEGIN:VCALENDAR
PRODID:-//Session events Calendar//IBA//EN
CALSCALE:GREGORIAN
VERSION:2.0
BEGIN:VEVENT
DTSTAMP:20260421T203232Z
DTSTART:20240509T124000Z
DTEND:20240509T130000Z
SUMMARY:Coffee/tea break
DESCRIPTION:
LOCATION:
UID:47cdf3f6-b813-442f-a3b9-ec723143f580
END:VEVENT
END:VCALENDAR
