BEGIN:VCALENDAR
PRODID:-//Session events Calendar//IBA//EN
CALSCALE:GREGORIAN
VERSION:2.0
BEGIN:VEVENT
DTSTAMP:20260421T184752Z
DTSTART:20240509T130000Z
DTEND:20240509T141500Z
SUMMARY:Subsidies fraud post-Covid-19
DESCRIPTION:This panel will dissect the intricate landscape of subsidies 
 fraud in the aftermath of the Covid-19 pandemic. The health emergency cr
 eated by Covid-19 led state authorities and international institutions t
 o allocate significant financial resources to companies\, through subsid
 ies and other forms of aid\, to overcome not only the sanitary urgencies
 \, but also the subsequent economic crisis. These subsidies were often g
 ranted through fast-track procedures with relaxed controls and unusual p
 rocurement processes. Did companies manage these public funds diligently
 ? Has there been an increase in investigations of fraud and corruption b
 ecause of the audits carried out by regulatory authorities after the glo
 bal crisis? This panel will navigate the complexities of this topic\, di
 scussing actual cases from different jurisdictions\, emerging trends\, l
 essons learned and strategies to combat fraudulent practices.\n
LOCATION:
UID:5e41f8ce-90bd-492f-bb1c-cbde7488657f
END:VEVENT
END:VCALENDAR
