BEGIN:VCALENDAR
PRODID:-//Session events Calendar//IBA//EN
CALSCALE:GREGORIAN
VERSION:2.0
BEGIN:VEVENT
DTSTAMP:20260421T203203Z
DTSTART:20240509T141500Z
DTEND:20240509T143000Z
SUMMARY:Coffee/tea break
DESCRIPTION:
LOCATION:
UID:22aa6a12-ce42-4239-9089-f8a648a88dcb
END:VEVENT
END:VCALENDAR
