BEGIN:VCALENDAR
PRODID:-//Session events Calendar//IBA//EN
CALSCALE:GREGORIAN
VERSION:2.0
BEGIN:VEVENT
DTSTAMP:20260421T221409Z
DTSTART:20240510T084500Z
DTEND:20240510T090500Z
SUMMARY:Coffee/tea break
DESCRIPTION:
LOCATION:
UID:b8217029-e6d1-4d61-97cf-40ba776ade0b
END:VEVENT
END:VCALENDAR
