BEGIN:VCALENDAR
PRODID:-//Session events Calendar//IBA//EN
CALSCALE:GREGORIAN
VERSION:2.0
BEGIN:VEVENT
DTSTAMP:20260422T015651Z
DTSTART:20240603T063000Z
DTEND:20240603T071000Z
SUMMARY:Welcome coffee/ tea
DESCRIPTION:
LOCATION:
UID:ff185e3c-bef3-4807-a137-bab7d1195cf8
END:VEVENT
END:VCALENDAR
