BEGIN:VCALENDAR
PRODID:-//Session events Calendar//IBA//EN
CALSCALE:GREGORIAN
VERSION:2.0
BEGIN:VEVENT
DTSTAMP:20260422T015652Z
DTSTART:20240603T071000Z
DTEND:20240603T071500Z
SUMMARY:Opening remarks
DESCRIPTION:
LOCATION:
UID:5a253084-a1a4-4491-8558-efe4e1b711eb
END:VEVENT
END:VCALENDAR
