BEGIN:VCALENDAR
PRODID:-//Session events Calendar//IBA//EN
CALSCALE:GREGORIAN
VERSION:2.0
BEGIN:VEVENT
DTSTAMP:20260422T015747Z
DTSTART:20240603T071500Z
DTEND:20240603T080000Z
SUMMARY:Keynote speaker
DESCRIPTION:
LOCATION:
UID:c1ac576e-6e9b-4e57-96ed-41754f34ece0
END:VEVENT
END:VCALENDAR
