BEGIN:VCALENDAR
PRODID:-//Session events Calendar//IBA//EN
CALSCALE:GREGORIAN
VERSION:2.0
BEGIN:VEVENT
DTSTAMP:20260422T015653Z
DTSTART:20240603T080000Z
DTEND:20240603T083000Z
SUMMARY:Coffee/tea break
DESCRIPTION:
LOCATION:
UID:c724dfca-3344-462d-89de-6da1619a82a1
END:VEVENT
END:VCALENDAR
