BEGIN:VCALENDAR
PRODID:-//Session events Calendar//IBA//EN
CALSCALE:GREGORIAN
VERSION:2.0
BEGIN:VEVENT
DTSTAMP:20260422T015652Z
DTSTART:20240603T083000Z
DTEND:20240603T094500Z
SUMMARY:Preventing insolvency in the financial sector: insurance companie
 s
DESCRIPTION:This panel will explore the complexities involved in the rest
 ructuring of distressed insurance companies. The primary goal in such re
 structurings is to ensure the most favourable outcome for policyholders.
  This discussion will delve into the optimal strategies for achieving th
 is objective and the differences that arise across various insurance cat
 egories.
LOCATION:
UID:2263185a-455f-4cbe-8ec7-8c4bbb3d0e8e
END:VEVENT
END:VCALENDAR
