BEGIN:VCALENDAR
PRODID:-//Session events Calendar//IBA//EN
CALSCALE:GREGORIAN
VERSION:2.0
BEGIN:VEVENT
DTSTAMP:20260422T015746Z
DTSTART:20240603T094500Z
DTEND:20240603T103000Z
SUMMARY:Interactive session: dilemmas we may encounter while working at r
 estructurings: an interactive intermezzo
DESCRIPTION:
LOCATION:
UID:c5d5d6a8-8a55-4a3c-a12c-ea43cfab1a5f
END:VEVENT
END:VCALENDAR
