BEGIN:VCALENDAR
PRODID:-//Session events Calendar//IBA//EN
CALSCALE:GREGORIAN
VERSION:2.0
BEGIN:VEVENT
DTSTAMP:20260422T015747Z
DTSTART:20240603T103000Z
DTEND:20240603T120000Z
SUMMARY:Lunch
DESCRIPTION:
LOCATION:
UID:5dd654f5-945c-4c00-b274-2820429ac2fd
END:VEVENT
END:VCALENDAR
