BEGIN:VCALENDAR
PRODID:-//Session events Calendar//IBA//EN
CALSCALE:GREGORIAN
VERSION:2.0
BEGIN:VEVENT
DTSTAMP:20260422T015745Z
DTSTART:20240603T120000Z
DTEND:20240603T131500Z
SUMMARY:Litigation in distressed situation
DESCRIPTION:This panel will examine the full litigation spectrum from the
  pre-filing stage of when a company is in distress\, to after a debtor h
 as filed an insolvency proceeding and the post confirmation litigation (
 including fraudulent transfer and preferential transfers). The panel of 
 senior litigators will also provide practical tips in the context of dir
 ectors’ and officers’ (D&amp\;O) liability exposure to litigation and cr
 oss-border of enforcement/foreign recognition of judgments.\n
LOCATION:
UID:e9b7b64a-d10b-4b16-b086-a09eb02ccb7a
END:VEVENT
END:VCALENDAR
