BEGIN:VCALENDAR
PRODID:-//Session events Calendar//IBA//EN
CALSCALE:GREGORIAN
VERSION:2.0
BEGIN:VEVENT
DTSTAMP:20260422T015746Z
DTSTART:20240603T131500Z
DTEND:20240603T134500Z
SUMMARY:Coffee/tea break
DESCRIPTION:
LOCATION:
UID:18dbfb45-e91a-4276-95ed-40833dcb4856
END:VEVENT
END:VCALENDAR
