BEGIN:VCALENDAR
PRODID:-//Session events Calendar//IBA//EN
CALSCALE:GREGORIAN
VERSION:2.0
BEGIN:VEVENT
DTSTAMP:20260422T015746Z
DTSTART:20240604T063000Z
DTEND:20240604T070000Z
SUMMARY:Welcome coffee/ tea
DESCRIPTION:
LOCATION:
UID:2f5395ba-08b8-4f7f-8376-916e358e6928
END:VEVENT
END:VCALENDAR
