BEGIN:VCALENDAR
PRODID:-//Session events Calendar//IBA//EN
CALSCALE:GREGORIAN
VERSION:2.0
BEGIN:VEVENT
DTSTAMP:20260422T015746Z
DTSTART:20240604T070000Z
DTEND:20240604T081500Z
SUMMARY:Restructurings in the automotive sector
DESCRIPTION:This panel will consider what are the main challenges facing 
 the worldwide automotive sector throughout the supply chain\, from origi
 nal equipment manufacturers (OEMs) to auto parts manufacturers. The pane
 l will discuss the legal mechanisms available in the key affected jurisd
 ictions for rehabilitating\, ‘recycling’ or simply winding-down distress
 ed businesses in this sector.\n
LOCATION:
UID:dff6380d-61ed-4de9-b434-95e4cf557930
END:VEVENT
END:VCALENDAR
