BEGIN:VCALENDAR
PRODID:-//Session events Calendar//IBA//EN
CALSCALE:GREGORIAN
VERSION:2.0
BEGIN:VEVENT
DTSTAMP:20260422T015745Z
DTSTART:20240604T081500Z
DTEND:20240604T084500Z
SUMMARY:Coffee/ tea break 
DESCRIPTION:
LOCATION:
UID:20a5b09d-e794-48fb-81a3-8dd668e64ee9
END:VEVENT
END:VCALENDAR
