BEGIN:VCALENDAR
PRODID:-//Session events Calendar//IBA//EN
CALSCALE:GREGORIAN
VERSION:2.0
BEGIN:VEVENT
DTSTAMP:20260422T015746Z
DTSTART:20240604T084500Z
DTEND:20240604T091500Z
SUMMARY:Keynote speaker
DESCRIPTION:
LOCATION:
UID:700f01d7-67a6-480e-962f-b93abc7de819
END:VEVENT
END:VCALENDAR
