BEGIN:VCALENDAR
PRODID:-//Session events Calendar//IBA//EN
CALSCALE:GREGORIAN
VERSION:2.0
BEGIN:VEVENT
DTSTAMP:20260422T015746Z
DTSTART:20240604T103000Z
DTEND:20240604T114500Z
SUMMARY:Lunch
DESCRIPTION:
LOCATION:
UID:131eb7d8-1d55-41ec-803f-ef3a49a3463d
END:VEVENT
END:VCALENDAR
