BEGIN:VCALENDAR
PRODID:-//Session events Calendar//IBA//EN
CALSCALE:GREGORIAN
VERSION:2.0
BEGIN:VEVENT
DTSTAMP:20260422T015746Z
DTSTART:20240604T114500Z
DTEND:20240604T130000Z
SUMMARY:The role of security enforcement in a restructuring process
DESCRIPTION:This panel will explore recent trends impacting secured credi
 tors and the enforcement of security interests rights in restructurings 
 in Europe and the United States.\n
LOCATION:
UID:ac63aab4-a609-4930-b84a-41f78e4d8ca6
END:VEVENT
END:VCALENDAR
