BEGIN:VCALENDAR
PRODID:-//Session events Calendar//IBA//EN
CALSCALE:GREGORIAN
VERSION:2.0
BEGIN:VEVENT
DTSTAMP:20260425T012617Z
DTSTART:20240516T073500Z
DTEND:20240516T075000Z
SUMMARY:Conference Co-Chairs opening remark
DESCRIPTION:
LOCATION:
UID:86f6c2ca-8725-41ad-a754-f5e126cd7963
END:VEVENT
END:VCALENDAR
