BEGIN:VCALENDAR
PRODID:-//Session events Calendar//IBA//EN
CALSCALE:GREGORIAN
VERSION:2.0
BEGIN:VEVENT
DTSTAMP:20260425T013238Z
DTSTART:20240516T093000Z
DTEND:20240516T101500Z
SUMMARY:Keynote address
DESCRIPTION:
LOCATION:
UID:da57ad1e-c2d8-4544-867e-f7fa8a3b3b2a
END:VEVENT
END:VCALENDAR
