BEGIN:VCALENDAR
PRODID:-//Session events Calendar//IBA//EN
CALSCALE:GREGORIAN
VERSION:2.0
BEGIN:VEVENT
DTSTAMP:20260425T012632Z
DTSTART:20240516T075000Z
DTEND:20240516T090000Z
SUMMARY:Funds and fund distribution
DESCRIPTION:The "Funds and Fund Distribution" panel session will cover th
 e setup of investment funds\, including legal\, tax\, passporting and go
 vernance aspects\, and address challenges in distributing funds internat
 ionally. Experts will discuss regulatory barriers\, compliance\, and mar
 ket-specific hurdles\, alongside trends and innovations in the fund indu
 stry\, such as technological advancements\, evolving investment strategi
 es and fund structures\, that influence fund management and distribution
  efficiency.
LOCATION:
UID:eae10cbc-293a-4f0c-b78c-577a226986fe
END:VEVENT
END:VCALENDAR
