BEGIN:VCALENDAR
PRODID:-//Session events Calendar//IBA//EN
CALSCALE:GREGORIAN
VERSION:2.0
BEGIN:VEVENT
DTSTAMP:20260425T012632Z
DTSTART:20240516T090000Z
DTEND:20240516T092500Z
SUMMARY:Coffee/tea break
DESCRIPTION:
LOCATION:
UID:e59a2003-c319-4f05-b254-00d06cd0aea1
END:VEVENT
END:VCALENDAR
