BEGIN:VCALENDAR
PRODID:-//Session events Calendar//IBA//EN
CALSCALE:GREGORIAN
VERSION:2.0
BEGIN:VEVENT
DTSTAMP:20260425T012721Z
DTSTART:20240516T112500Z
DTEND:20240516T124500Z
SUMMARY:Lunch
DESCRIPTION:
LOCATION:
UID:9ed27364-f8ef-4c90-9fda-e348c32c11cd
END:VEVENT
END:VCALENDAR
