BEGIN:VCALENDAR
PRODID:-//Session events Calendar//IBA//EN
CALSCALE:GREGORIAN
VERSION:2.0
BEGIN:VEVENT
DTSTAMP:20260425T013252Z
DTSTART:20240516T150500Z
DTEND:20240516T153000Z
SUMMARY:Coffee/tea break
DESCRIPTION:
LOCATION:
UID:a2fd6562-d2dc-4bd6-8fc4-9b8d0f09c87c
END:VEVENT
END:VCALENDAR
