BEGIN:VCALENDAR
PRODID:-//Session events Calendar//IBA//EN
CALSCALE:GREGORIAN
VERSION:2.0
BEGIN:VEVENT
DTSTAMP:20260425T013237Z
DTSTART:20240516T164000Z
DTEND:20240516T175000Z
SUMMARY:Diversity reception
DESCRIPTION:
LOCATION:
UID:8c5e51f5-9119-4697-82b1-3807096dd270
END:VEVENT
END:VCALENDAR
