BEGIN:VCALENDAR
PRODID:-//Session events Calendar//IBA//EN
CALSCALE:GREGORIAN
VERSION:2.0
BEGIN:VEVENT
DTSTAMP:20260425T013253Z
DTSTART:20240517T094500Z
DTEND:20240517T101500Z
SUMMARY:Coffee/tea break
DESCRIPTION:
LOCATION:
UID:49e7f440-cd02-4cf2-9414-cc36ffa09292
END:VEVENT
END:VCALENDAR
