BEGIN:VCALENDAR
PRODID:-//Session events Calendar//IBA//EN
CALSCALE:GREGORIAN
VERSION:2.0
BEGIN:VEVENT
DTSTAMP:20260425T013237Z
DTSTART:20240517T113000Z
DTEND:20240517T130000Z
SUMMARY:Lunch
DESCRIPTION:
LOCATION:
UID:afd222c6-d2a4-4316-a58b-9c431e92fee3
END:VEVENT
END:VCALENDAR
