BEGIN:VCALENDAR
PRODID:-//Session events Calendar//IBA//EN
CALSCALE:GREGORIAN
VERSION:2.0
BEGIN:VEVENT
DTSTAMP:20260426T002743Z
DTSTART:20240517T141500Z
DTEND:20240517T144500Z
SUMMARY:Coffee/tea break
DESCRIPTION:
LOCATION:
UID:8e01bce1-9814-40d2-b03e-20fd0a199aac
END:VEVENT
END:VCALENDAR
