BEGIN:VCALENDAR
PRODID:-//Session events Calendar//IBA//EN
CALSCALE:GREGORIAN
VERSION:2.0
BEGIN:VEVENT
DTSTAMP:20260426T002744Z
DTSTART:20240517T144500Z
DTEND:20240517T160000Z
SUMMARY:Compliance in the digital age: navigating technology and financia
 l services regulation
DESCRIPTION:As the financial sector increasingly embraces technological i
 nnovations such as artificial intelligence and blockchain\, the future o
 f regulatory compliance stands at a pivotal junction. This discussion wi
 ll delve into how these technologies are set to transform financial regu
 lation\, the potential challenges they pose\, and the strategies organiz
 ations can adopt to stay ahead in this dynamic environment\, ensuring ro
 bust compliance while fostering innovation.
LOCATION:
UID:92240698-013e-4fb5-aee9-448e8b879974
END:VEVENT
END:VCALENDAR
