BEGIN:VCALENDAR
PRODID:-//Session events Calendar//IBA//EN
CALSCALE:GREGORIAN
VERSION:2.0
BEGIN:VEVENT
DTSTAMP:20260423T113745Z
DTSTART:20240919T171500Z
DTEND:20240919T183000Z
SUMMARY:BHR & ESG: practical application of the 2023 IBA business and hum
 an rights guidance 
DESCRIPTION:This session will discuss the practical application of the IB
 A updated guidance on the UN Guiding Principles on Business and Human Ri
 ghts (UNGPs) released in 2023.\n\nIt will provide new insights into the 
 UNGPs in practice\, recent updates in business and human rights\, the ma
 turation of the right to a healthy environment (R2HE)\, due diligence ap
 proaches for human rights and the environment\, and the trends in transn
 ational business and human rights litigation.\n\n
LOCATION:PALACIO DE CANAL 1\, LEVEL E1
UID:eeaf14f2-07ce-4956-aaa4-74e6ef82e4ba
END:VEVENT
END:VCALENDAR
