BEGIN:VCALENDAR
PRODID:-//Session events Calendar//IBA//EN
CALSCALE:GREGORIAN
VERSION:2.0
BEGIN:VEVENT
DTSTAMP:20260426T015254Z
DTSTART:20240917T221500Z
DTEND:20240917T233000Z
SUMMARY:Refugee and humanitarian law update - child refugees in 2024
DESCRIPTION:The plight of children and unaccompanied minors in refugee mo
 vements remains one of the greatest concerns of the contemporary period.
  This panel will review the refugee landscape in 2024\, with a focus on 
 the treatment of children and unaccompanied minors.
LOCATION:PALACIO DE CANAL 8\, LEVEL E1
UID:4418c994-f1a9-4295-bd1e-202302e2ee6b
END:VEVENT
END:VCALENDAR
