BEGIN:VCALENDAR
PRODID:-//Session events Calendar//IBA//EN
CALSCALE:GREGORIAN
VERSION:2.0
BEGIN:VEVENT
DTSTAMP:20260419T092508Z
DTSTART:20240610T124500Z
DTEND:20240610T131500Z
SUMMARY:Fireside chat on AI
DESCRIPTION:
LOCATION:
UID:1156170d-c115-44e4-a720-c2a84c54e7d6
END:VEVENT
END:VCALENDAR
