BEGIN:VCALENDAR
PRODID:-//Session events Calendar//IBA//EN
CALSCALE:GREGORIAN
VERSION:2.0
BEGIN:VEVENT
DTSTAMP:20260419T162316Z
DTSTART:20240610T180000Z
DTEND:20240610T190000Z
SUMMARY:Fund operational issues: ‘looking under the bonnet’
DESCRIPTION:This session will explore:\n• Valuation of illiquid assets (p
 rivate assets\, digital assets\, etc.) – ongoing operational challenges\
 n• BCM Business Continuity Models for Custodian: increasing regulatory c
 hallenges and operational constraints\n• Monitoring of liquidity of fund
  portfolios in light of new regulatory requirements\n• Operational risks
  in relation to filing and notification obligations for substantial shar
 eholdings in fund portfolios\n• Pooling and segregation of assets among 
 various funds
LOCATION:
UID:aa440d2b-73aa-43bd-9320-a7a84fb9d926
END:VEVENT
END:VCALENDAR
