BEGIN:VCALENDAR
PRODID:-//Session events Calendar//IBA//EN
CALSCALE:GREGORIAN
VERSION:2.0
BEGIN:VEVENT
DTSTAMP:20260419T124759Z
DTSTART:20240611T202000Z
DTEND:20240611T203000Z
SUMMARY:Closing remarks
DESCRIPTION:
LOCATION:
UID:910ea695-5986-4c3a-bb3c-03f59ce16ffb
END:VEVENT
END:VCALENDAR
