BEGIN:VCALENDAR
PRODID:-//Session events Calendar//IBA//EN
CALSCALE:GREGORIAN
VERSION:2.0
BEGIN:VEVENT
DTSTAMP:20260424T170212Z
DTSTART:20240918T203000Z
DTEND:20240918T233000Z
SUMMARY:Roundtable sessions on current developments
DESCRIPTION:These roundtable sessions will focus on five distinct emergin
 g topics of interest in an audience. They will feature an interactive\, 
 roundtable format led by moderators and contributions from our national 
 reporters.\n
LOCATION:PALACIO DE INTURBIDE 2 + 3\, LEVEL E1
UID:6228478a-46d4-4b03-8f51-99dc5c7b0fdc
END:VEVENT
END:VCALENDAR
