BEGIN:VCALENDAR
PRODID:-//Session events Calendar//IBA//EN
CALSCALE:GREGORIAN
VERSION:2.0
BEGIN:VEVENT
DTSTAMP:20260425T200723Z
DTSTART:20240523T143000Z
DTEND:20240523T144500Z
SUMMARY:Closing remarks
DESCRIPTION:
LOCATION:
UID:7d9efee8-4c40-4332-b479-36da8264a6b5
END:VEVENT
END:VCALENDAR
