BEGIN:VCALENDAR
PRODID:-//Session events Calendar//IBA//EN
CALSCALE:GREGORIAN
VERSION:2.0
BEGIN:VEVENT
DTSTAMP:20260425T200626Z
DTSTART:20240522T100000Z
DTEND:20240522T103000Z
SUMMARY:Welcome and opening remarks
DESCRIPTION:
LOCATION:Constanta Ballroom
UID:e8b0e790-29eb-46cb-9aa1-9745a0b45083
END:VEVENT
END:VCALENDAR
