BEGIN:VCALENDAR
PRODID:-//Session events Calendar//IBA//EN
CALSCALE:GREGORIAN
VERSION:2.0
BEGIN:VEVENT
DTSTAMP:20260419T162318Z
DTSTART:20240417T173000Z
DTEND:20240417T174500Z
SUMMARY:Welcome remarks
DESCRIPTION:
LOCATION:
UID:fafe9f16-d5bc-4f66-9a93-2b3d59eb8145
END:VEVENT
END:VCALENDAR
