BEGIN:VCALENDAR
PRODID:-//Session events Calendar//IBA//EN
CALSCALE:GREGORIAN
VERSION:2.0
BEGIN:VEVENT
DTSTAMP:20260419T162327Z
DTSTART:20240417T193000Z
DTEND:20240417T195000Z
SUMMARY:Keynote speech
DESCRIPTION:
LOCATION:
UID:b9a06b9d-8932-4de6-b95a-6f16fe907496
END:VEVENT
END:VCALENDAR
