BEGIN:VCALENDAR
PRODID:-//Session events Calendar//IBA//EN
CALSCALE:GREGORIAN
VERSION:2.0
BEGIN:VEVENT
DTSTAMP:20260426T032502Z
DTSTART:20240530T114500Z
DTEND:20240530T124500Z
SUMMARY:PLENARY SESSION ONE: Interoperability in healthcare and E-health:
  trends and challenges
DESCRIPTION:
LOCATION:
UID:a6410b59-0695-47b9-b115-3453a7081742
END:VEVENT
END:VCALENDAR
