BEGIN:VCALENDAR
PRODID:-//Session events Calendar//IBA//EN
CALSCALE:GREGORIAN
VERSION:2.0
BEGIN:VEVENT
DTSTAMP:20260426T032405Z
DTSTART:20240918T183000Z
DTEND:20240918T193000Z
SUMMARY:Women Lawyers' Committee open business meeting: How to make the m
 ost of the IBA for women lawyers’ business development
DESCRIPTION:
LOCATION:PALACIO DE CANAL 7\, LEVEL E1
UID:f2766f22-2f2c-44ea-a8f9-6cd95d5f176d
END:VEVENT
END:VCALENDAR
