BEGIN:VCALENDAR
PRODID:-//Session events Calendar//IBA//EN
CALSCALE:GREGORIAN
VERSION:2.0
BEGIN:VEVENT
DTSTAMP:20260425T164840Z
DTSTART:20240916T183000Z
DTEND:20240916T193000Z
SUMMARY:Alternative and New Law Business Structures Committee open busine
 ss meeting
DESCRIPTION:
LOCATION:PALACIO DE CANAL 9\, LEVEL E1
UID:bf60df9e-fa37-485f-ab36-6136e4197102
END:VEVENT
END:VCALENDAR
