BEGIN:VCALENDAR
PRODID:-//Session events Calendar//IBA//EN
CALSCALE:GREGORIAN
VERSION:2.0
BEGIN:VEVENT
DTSTAMP:20260426T032532Z
DTSTART:20240918T183000Z
DTEND:20240918T193000Z
SUMMARY:Academic and professional development committee open business mee
 ting
DESCRIPTION:An open meeting of the Academic and Professional Development 
 Committee where all Conference attendees are invited to hear about the e
 xtensive activities of the Committee in the legal education and professi
 onal development fields and to learn more about how to get involved in t
 he work of the Committee.
LOCATION:PALACIO DE CANAL 11\, LEVEL E1
UID:abf68493-e9c3-4c01-be2a-2a9d9a7bf148
END:VEVENT
END:VCALENDAR
