BEGIN:VCALENDAR
PRODID:-//Session events Calendar//IBA//EN
CALSCALE:GREGORIAN
VERSION:2.0
BEGIN:VEVENT
DTSTAMP:20260426T015254Z
DTSTART:20240917T233000Z
DTEND:20240918T003000Z
SUMMARY:Access to Justice and Legal Aid Committee open business meeting
DESCRIPTION:
LOCATION:PALACIO DE CANAL 11\, LEVEL E1
UID:c8121694-1729-463e-8094-63ce4d61784a
END:VEVENT
END:VCALENDAR
