BEGIN:VCALENDAR
PRODID:-//Session events Calendar//IBA//EN
CALSCALE:GREGORIAN
VERSION:2.0
BEGIN:VEVENT
DTSTAMP:20260426T015731Z
DTSTART:20240917T233000Z
DTEND:20240918T003000Z
SUMMARY:Pro Bono Committee open business meeting
DESCRIPTION:Pro Bono Committe: Open Committee Business Meeting to engage 
 with current members and potential new members about the work of the Pro
  Bono Committee and the role of officers
LOCATION:PALACIO DE CANAL 7\, LEVEL E1
UID:214743f7-54cc-481b-9461-76dbf355fa57
END:VEVENT
END:VCALENDAR
