BEGIN:VCALENDAR
PRODID:-//Session events Calendar//IBA//EN
CALSCALE:GREGORIAN
VERSION:2.0
BEGIN:VEVENT
DTSTAMP:20260426T015233Z
DTSTART:20240917T233000Z
DTEND:20240918T003000Z
SUMMARY:Latin American Regional Forum open business meeting
DESCRIPTION:
LOCATION:PALACIO DE VALPARAISO 1\, LEVEL E1
UID:a1cc3858-ef9a-4677-8776-697187f1d865
END:VEVENT
END:VCALENDAR
