BEGIN:VCALENDAR
PRODID:-//Session events Calendar//IBA//EN
CALSCALE:GREGORIAN
VERSION:2.0
BEGIN:VEVENT
DTSTAMP:20260426T032411Z
DTSTART:20240918T193000Z
DTEND:20240918T203000Z
SUMMARY:Immigration and Nationality Law open business meeting
DESCRIPTION:
LOCATION:CASA DEL DIEZMO 4\, LEVEL S
UID:383d4967-7312-4666-bfa6-bde1c533e626
END:VEVENT
END:VCALENDAR
