BEGIN:VCALENDAR
PRODID:-//Session events Calendar//IBA//EN
CALSCALE:GREGORIAN
VERSION:2.0
BEGIN:VEVENT
DTSTAMP:20260426T032411Z
DTSTART:20240918T193000Z
DTEND:20240918T203000Z
SUMMARY:Class Actions Committee open business meeting
DESCRIPTION:
LOCATION:PALACIO DE CANAL 9\, LEVEL E1
UID:aee08006-fd40-47a9-b498-db084cc5d55e
END:VEVENT
END:VCALENDAR
