BEGIN:VCALENDAR
PRODID:-//Session events Calendar//IBA//EN
CALSCALE:GREGORIAN
VERSION:2.0
BEGIN:VEVENT
DTSTAMP:20260426T032502Z
DTSTART:20240918T193000Z
DTEND:20240918T203000Z
SUMMARY:Taxes Committee open business meeting
DESCRIPTION:
LOCATION:PALACIO DE INTURBIDE 2 + 3\, LEVEL E1
UID:0d8d9369-3046-4dac-9c7a-52e0788f1cdc
END:VEVENT
END:VCALENDAR
